BEGIN:VCALENDAR
VERSION:2.0
PRODID:-//eventon.com NONSGML v1.0//EN
BEGIN:VEVENT
UID:69e734f423eb4
DTSTAMP:20260421T042732
DTSTART:20221120T040000Z
DTEND:20221121T035900Z
LOCATION:
SUMMARY:Church Thanksgiving Celebration
DESCRIPTION: Church Thanksgiving Celebration
END:VEVENT
END:VCALENDAR