BEGIN:VCALENDAR
VERSION:2.0
PRODID:-//eventon.com NONSGML v1.0//EN
BEGIN:VEVENT
UID:69e8b2d614e76
DTSTAMP:20260422T073654
DTSTART:20240127T040000Z
DTEND:20240128T035900Z
LOCATION:
SUMMARY:Shopping in Asheville
DESCRIPTION: Shopping in Asheville
END:VEVENT
END:VCALENDAR