BEGIN:VCALENDAR
VERSION:2.0
PRODID:-//eventon.com NONSGML v1.0//EN
BEGIN:VEVENT
UID:69e734d869a56
DTSTAMP:20260421T042704
DTSTART:20241115T040000Z
DTEND:20241116T035900Z
LOCATION:
SUMMARY:IF Dinner @ Melissa's House
DESCRIPTION: IF Dinner @ Melissa's House
END:VEVENT
END:VCALENDAR