BEGIN:VCALENDAR
VERSION:2.0
PRODID:-//eventon.com NONSGML v1.0//EN
BEGIN:VEVENT
UID:69e88fa086915
DTSTAMP:20260422T050640
DTSTART:20190126T040000Z
DTEND:20190127T035900Z
LOCATION:
SUMMARY:Dinner & WCU Basketball Game
DESCRIPTION: Join us for dinner off campus and a fun WCU basketball game.  Go Cats! Email us if you'd like to come: ifcampus@gmail.com
END:VEVENT
END:VCALENDAR