BEGIN:VCALENDAR
VERSION:2.0
PRODID:-//eventon.com NONSGML v1.0//EN
BEGIN:VEVENT
UID:69e733558c303
DTSTAMP:20260421T042037
DTSTART:20200829T040000Z
DTEND:20200830T035900Z
LOCATION:
SUMMARY:Drive-in Movie
DESCRIPTION: Drive-in Movie
END:VEVENT
END:VCALENDAR